BEGIN:VCALENDAR
VERSION:2.0
PRODID:-//Blaskapelle Grainet - ECPv6.15.20//NONSGML v1.0//EN
CALSCALE:GREGORIAN
METHOD:PUBLISH
X-ORIGINAL-URL:https://blaskapelle-grainet.de
X-WR-CALDESC:Veranstaltungen für Blaskapelle Grainet
REFRESH-INTERVAL;VALUE=DURATION:PT1H
X-Robots-Tag:noindex
X-PUBLISHED-TTL:PT1H
BEGIN:VTIMEZONE
TZID:Europe/Berlin
BEGIN:DAYLIGHT
TZOFFSETFROM:+0100
TZOFFSETTO:+0200
TZNAME:CEST
DTSTART:20250330T010000
END:DAYLIGHT
BEGIN:STANDARD
TZOFFSETFROM:+0200
TZOFFSETTO:+0100
TZNAME:CET
DTSTART:20251026T010000
END:STANDARD
BEGIN:DAYLIGHT
TZOFFSETFROM:+0100
TZOFFSETTO:+0200
TZNAME:CEST
DTSTART:20260329T010000
END:DAYLIGHT
BEGIN:STANDARD
TZOFFSETFROM:+0200
TZOFFSETTO:+0100
TZNAME:CET
DTSTART:20261025T010000
END:STANDARD
BEGIN:DAYLIGHT
TZOFFSETFROM:+0100
TZOFFSETTO:+0200
TZNAME:CEST
DTSTART:20270328T010000
END:DAYLIGHT
BEGIN:STANDARD
TZOFFSETFROM:+0200
TZOFFSETTO:+0100
TZNAME:CET
DTSTART:20271031T010000
END:STANDARD
END:VTIMEZONE
BEGIN:VEVENT
DTSTART;TZID=Europe/Berlin:20260604T180000
DTEND;TZID=Europe/Berlin:20260604T233000
DTSTAMP:20260425T122447
CREATED:20260306T165139Z
LAST-MODIFIED:20260306T165139Z
UID:16075-1780596000-1780615800@blaskapelle-grainet.de
SUMMARY:Hendl\, Bier & Blemuse
DESCRIPTION:Hier geht es weiter zum Ticketshop
URL:https://blaskapelle-grainet.de/event/hendl-bier-blemuse/
LOCATION:Festplatz Birkenwald Rehberg\, Graineter Straße 4\, Grainet\, Bayern\, 94143\, Germany
END:VEVENT
END:VCALENDAR