BEGIN:VCALENDAR
VERSION:2.0
PRODID:-//Blaskapelle Grainet - ECPv6.15.20//NONSGML v1.0//EN
CALSCALE:GREGORIAN
METHOD:PUBLISH
X-ORIGINAL-URL:https://blaskapelle-grainet.de
X-WR-CALDESC:Veranstaltungen für Blaskapelle Grainet
REFRESH-INTERVAL;VALUE=DURATION:PT1H
X-Robots-Tag:noindex
X-PUBLISHED-TTL:PT1H
BEGIN:VTIMEZONE
TZID:Europe/Berlin
BEGIN:DAYLIGHT
TZOFFSETFROM:+0100
TZOFFSETTO:+0200
TZNAME:CEST
DTSTART:20250330T010000
END:DAYLIGHT
BEGIN:STANDARD
TZOFFSETFROM:+0200
TZOFFSETTO:+0100
TZNAME:CET
DTSTART:20251026T010000
END:STANDARD
BEGIN:DAYLIGHT
TZOFFSETFROM:+0100
TZOFFSETTO:+0200
TZNAME:CEST
DTSTART:20260329T010000
END:DAYLIGHT
BEGIN:STANDARD
TZOFFSETFROM:+0200
TZOFFSETTO:+0100
TZNAME:CET
DTSTART:20261025T010000
END:STANDARD
BEGIN:DAYLIGHT
TZOFFSETFROM:+0100
TZOFFSETTO:+0200
TZNAME:CEST
DTSTART:20270328T010000
END:DAYLIGHT
BEGIN:STANDARD
TZOFFSETFROM:+0200
TZOFFSETTO:+0100
TZNAME:CET
DTSTART:20271031T010000
END:STANDARD
END:VTIMEZONE
BEGIN:VEVENT
DTSTART;TZID=Europe/Berlin:20260503T103000
DTEND;TZID=Europe/Berlin:20260503T120000
DTSTAMP:20260423T140436
CREATED:20260306T163904Z
LAST-MODIFIED:20260306T163904Z
UID:16060-1777804200-1777809600@blaskapelle-grainet.de
SUMMARY:Maidultfestzug 2026
DESCRIPTION:
URL:https://blaskapelle-grainet.de/event/maidultfestzug-2026/
LOCATION:Domplatz Passau\, Steinweg 1\, Passau\, Bavaria\, 94032\, Germany
END:VEVENT
BEGIN:VEVENT
DTSTART;TZID=Europe/Berlin:20260604T180000
DTEND;TZID=Europe/Berlin:20260604T233000
DTSTAMP:20260423T140436
CREATED:20260306T165139Z
LAST-MODIFIED:20260306T165139Z
UID:16075-1780596000-1780615800@blaskapelle-grainet.de
SUMMARY:Hendl\, Bier & Blemuse
DESCRIPTION:Hier geht es weiter zum Ticketshop
URL:https://blaskapelle-grainet.de/event/hendl-bier-blemuse/
LOCATION:Festplatz Birkenwald Rehberg\, Graineter Straße 4\, Grainet\, Bayern\, 94143\, Germany
END:VEVENT
BEGIN:VEVENT
DTSTART;TZID=Europe/Berlin:20260719T100000
DTEND;TZID=Europe/Berlin:20260719T130000
DTSTAMP:20260423T140436
CREATED:20260306T164014Z
LAST-MODIFIED:20260315T185025Z
UID:16064-1784455200-1784466000@blaskapelle-grainet.de
SUMMARY:Säumerfest Grainet
DESCRIPTION:
URL:https://blaskapelle-grainet.de/event/saumerfest-grainet/
LOCATION:Dorfanger Grainet\, untere Hauptstraße 1\, Grainet\, 94143\, Germany
END:VEVENT
BEGIN:VEVENT
DTSTART;TZID=Europe/Berlin:20260731T170000
DTEND;TZID=Europe/Berlin:20260731T183000
DTSTAMP:20260423T140436
CREATED:20260306T164144Z
LAST-MODIFIED:20260306T164636Z
UID:16066-1785517200-1785522600@blaskapelle-grainet.de
SUMMARY:Volksfest Waldkirchen
DESCRIPTION:
URL:https://blaskapelle-grainet.de/event/volksfest-waldkirchen/
LOCATION:Volksfest Waldkirchen\, Holzfeldstraße 3\, Waldkirchen\, 94065\, Germany
END:VEVENT
BEGIN:VEVENT
DTSTART;TZID=Europe/Berlin:20260808T110000
DTEND;TZID=Europe/Berlin:20260808T123000
DTSTAMP:20260423T140436
CREATED:20260306T164239Z
LAST-MODIFIED:20260306T164239Z
UID:16069-1786186800-1786192200@blaskapelle-grainet.de
SUMMARY:Blasmusiksommer Waldkirchen
DESCRIPTION:
URL:https://blaskapelle-grainet.de/event/blasmusiksommer-waldkirchen/
LOCATION:Stadtplatz Waldkirchen\, Marktplatz 14\, Waldkirchen\, 94065\, Germany
END:VEVENT
END:VCALENDAR